BEGIN:VCALENDAR
PRODID:-//AT Content Types//AT Event//EN
VERSION:2.0
METHOD:PUBLISH
BEGIN:VEVENT
DTSTAMP:20260423T202830Z
CREATED:20100924T094206Z
UID:ATEvent-b3f48521f529a71b0f56f5a9ac850a8d
LAST-MODIFIED:20100924T094206Z
SUMMARY:First meeting
DTSTART:20100901T130000Z
DTEND:20100902T110000Z
LOCATION:Ferrara
CLASS:PUBLIC
END:VEVENT
END:VCALENDAR
