BEGIN:VCALENDAR
PRODID:-//AT Content Types//AT Event//EN
VERSION:2.0
METHOD:PUBLISH
BEGIN:VEVENT
DTSTAMP:20260420T200417Z
CREATED:20220426T115019Z
UID:ATEvent-74f36a6124194e8eaed9985de9d34fbb
LAST-MODIFIED:20220426T115121Z
SUMMARY:"Dal cuore alla mente" - 5 maggio\, Giornata Internazionale dell'Ostetrica
DTSTART:20220505T072000Z
DTEND:20220505T103000Z
DESCRIPTION:In occasione della Giornata Internazionale dell'Ostetrica\
 , una mattinata di divulgazione e di confronto sulla professione.
LOCATION:Pandurera di Cento
CLASS:PUBLIC
END:VEVENT
END:VCALENDAR
