BEGIN:VCALENDAR
PRODID:-//AT Content Types//AT Event//EN
VERSION:2.0
METHOD:PUBLISH
BEGIN:VEVENT
DTSTAMP:20260420T182155Z
CREATED:20220520T152803Z
UID:ATEvent-9c8edf721fa24a0ebd2f1c65d71f91a9
LAST-MODIFIED:20220520T152804Z
SUMMARY:GOCCIA su GOCCIA
DTSTART:20220523T160000Z
DTEND:20220523T220000Z
LOCATION:polo Chimico Bio-Medico\, aula E2
CONTACT:SISM - Segretariato Italiano Studenti di Medicina  - APS\, lpo@ferrara.sism.org
URL:https://forms.gle/d32zGneyzZcPdZMK7
CLASS:PUBLIC
END:VEVENT
END:VCALENDAR
