BEGIN:VCALENDAR
VERSION:2.0
PRODID:-//Plone.org//NONSGML plone.app.event//EN
X-WR-TIMEZONE:Europe/Rome
BEGIN:VEVENT
SUMMARY:Impact Lab - Hackathon GROW-ER                                    
                            Trasforma la Ricerca in Innovazione
DTSTART;TZID=Europe/Rome:20260513T140000
DTEND;TZID=Europe/Rome:20260515T180000
DTSTAMP:20260421T174751Z
UID:3f7e26d20d174d5789c594178b0de8ee@plone6.unife.it:8059
CREATED:20260403T111035Z
DESCRIPTION:Durante l'evento\, le partecipanti e i partecipanti lavorerann
 o all’identificazione di nuovi ambiti di applicazione per tecnologie inn
 ovative sviluppate all’interno dell’Università di Ferrara. Attraverso
  un approccio collaborativo e interdisciplinare\, studentesse\, studenti e
  dottorandi saranno coinvolti nello sviluppo di idee progettuali orientate
  alla valorizzazione di risultati della ricerca e brevetti\, trasformando 
 conoscenze scientifiche e brevetti in soluzioni concrete e progetti ad alt
 o potenziale imprenditoriale\, capaci di rispondere a sfide reali e bisogn
 i emergenti.
LAST-MODIFIED:20260421T121911Z
LOCATION:Laboratorio Aperto – Ex Teatro Verdi\, Via Castelnuovo 10\, Fer
 rara - primo piano.
URL:https://www.unife.it/it/terza-missione/impresa/evento_hackathon
END:VEVENT
BEGIN:VTIMEZONE
TZID:Europe/Rome
X-LIC-LOCATION:Europe/Rome
BEGIN:DAYLIGHT
DTSTART:20260329T030000
TZNAME:CEST
TZOFFSETFROM:+0100
TZOFFSETTO:+0200
END:DAYLIGHT
END:VTIMEZONE
END:VCALENDAR
