BEGIN:VCALENDAR
VERSION:2.0
PRODID:-//Plone.org//NONSGML plone.app.event//EN
X-WR-TIMEZONE:Europe/Rome
BEGIN:VEVENT
SUMMARY:Career Service Event - Job Search Tools
DTSTART;TZID=Europe/Rome:20250512T143000
DTEND;TZID=Europe/Rome:20250512T153000
DTSTAMP:20260422T192929Z
UID:2e2da3bc40b54d1a85e206614d46b630@plone6.unife.it:8059
CREATED:20250506T104410Z
LAST-MODIFIED:20250506T104602Z
LOCATION:Notorious Cinemas\, Via Darsena 73 - Hall 3
URL:https://www.unife.it/it/studiare/tirocini-placement/placement/eventi-u
 tl/career-service-event-job-search-tools
END:VEVENT
BEGIN:VTIMEZONE
TZID:Europe/Rome
X-LIC-LOCATION:Europe/Rome
BEGIN:DAYLIGHT
DTSTART:20250330T030000
TZNAME:CEST
TZOFFSETFROM:+0100
TZOFFSETTO:+0200
END:DAYLIGHT
END:VTIMEZONE
END:VCALENDAR
