BEGIN:VCALENDAR
VERSION:2.0
PRODID:-//Plone.org//NONSGML plone.app.event//EN
X-WR-TIMEZONE:Europe/Rome
BEGIN:VEVENT
SUMMARY:2m assicurazioni Market and Career opportunities
DTSTART;TZID=Europe/Rome:20250513T123000
DTEND;TZID=Europe/Rome:20250513T143000
DTSTAMP:20260422T193120Z
UID:a8d69aea00a2428880c98956101afcae@plone6.unife.it:8059
CREATED:20250429T131057Z
LAST-MODIFIED:20250429T131405Z
LOCATION:Aula EC5 - Dipartimento di Economia e Management Palazzo Bevilacq
 ua Costabili - Ferrara
URL:https://www.unife.it/it/studiare/tirocini-placement/placement/eventi-u
 tl/2m-assicurazioni-market-and-career-opportunities
END:VEVENT
BEGIN:VTIMEZONE
TZID:Europe/Rome
X-LIC-LOCATION:Europe/Rome
BEGIN:DAYLIGHT
DTSTART:20250330T030000
TZNAME:CEST
TZOFFSETFROM:+0100
TZOFFSETTO:+0200
END:DAYLIGHT
END:VTIMEZONE
END:VCALENDAR
