BEGIN:VCALENDAR
VERSION:2.0
PRODID:-//Plone.org//NONSGML plone.app.event//EN
X-WR-TIMEZONE:Europe/Rome
BEGIN:VEVENT
SUMMARY:PRISMA 2.0 | Laboratorio di yoga e consapevolezza "Il corpo che me
 dita"
DTSTART;TZID=Europe/Rome:20260417T140000
DTEND;TZID=Europe/Rome:20260703T183000
DTSTAMP:20260419T191148Z
UID:78e7646013114c63968d3fffea77a10a@plone6.unife.it:8059
CATEGORIES:PRISMA per cittadinanza,PRISMA per consulenti,PRISMA per docent
 i e pta,PRISMA per studenti
CREATED:20250908T065157Z
LAST-MODIFIED:20260417T120934Z
LOCATION:Auditorium S. Lucia (Rettorato)\, via Ariosto 35 - Ferrara
URL:https://www.unife.it/it/prisma/eventi-prisma/prisma-laboratorio-yoga-c
 onsapevolezza
END:VEVENT
BEGIN:VTIMEZONE
TZID:Europe/Rome
X-LIC-LOCATION:Europe/Rome
BEGIN:DAYLIGHT
DTSTART:20260329T030000
TZNAME:CEST
TZOFFSETFROM:+0100
TZOFFSETTO:+0200
END:DAYLIGHT
END:VTIMEZONE
END:VCALENDAR
