BEGIN:VCALENDAR
VERSION:2.0
PRODID:-//Plone.org//NONSGML plone.app.event//EN
X-WR-TIMEZONE:Europe/Rome
BEGIN:VEVENT
SUMMARY:COLOURS | Language Café online - 9 Aprile 2026
DTSTART;TZID=Europe/Rome:20260409T170000
DTEND;TZID=Europe/Rome:20260409T190000
DTSTAMP:20260421T022849Z
UID:c6209292d92b4f94b94c52d334c222b5@plone6.unife.it:8059
CONTACT:colours@unife.it\, colours@unife.it\, https://forms.gle/GRw5M3iXbU
 tAPvMXA
CREATED:20260331T161923Z
LAST-MODIFIED:20260331T162508Z
URL:https://www.unife.it/it/internazionale/colours/colours-language-cafe-o
 nline-9-aprile-2026
END:VEVENT
BEGIN:VTIMEZONE
TZID:Europe/Rome
X-LIC-LOCATION:Europe/Rome
BEGIN:DAYLIGHT
DTSTART:20260329T030000
TZNAME:CEST
TZOFFSETFROM:+0100
TZOFFSETTO:+0200
END:DAYLIGHT
END:VTIMEZONE
END:VCALENDAR
