BEGIN:VCALENDAR
VERSION:2.0
PRODID:-//Plone.org//NONSGML plone.app.event//EN
X-WR-TIMEZONE:Europe/Rome
BEGIN:VEVENT
SUMMARY:Open Day: Corso di Laurea in  Scienze Geologiche
DTSTART;TZID=Europe/Rome:20260428T110000
DTSTAMP:20260421T174750Z
UID:5aa0518da6604966a21dffe2cd7084ba@plone6.unife.it:8059
CATEGORIES:orientamento,open days
CREATED:20200302T081631Z
LAST-MODIFIED:20260421T122234Z
LOCATION:Blocco B\, Polo Scientifico Tecnologico\, Via Saragat 1
URL:https://www.unife.it/it/eventi/2026/od-26/scgeo-apr26
END:VEVENT
BEGIN:VTIMEZONE
TZID:Europe/Rome
X-LIC-LOCATION:Europe/Rome
BEGIN:DAYLIGHT
DTSTART:20260329T030000
TZNAME:CEST
TZOFFSETFROM:+0100
TZOFFSETTO:+0200
END:DAYLIGHT
END:VTIMEZONE
END:VCALENDAR
