BEGIN:VCALENDAR
VERSION:2.0
PRODID:-//Plone.org//NONSGML plone.app.event//EN
X-WR-TIMEZONE:Europe/Rome
BEGIN:VEVENT
SUMMARY:Open Day | Corso di Laurea in Matematica
DTSTART;TZID=Europe/Rome:20260514T150000
DTSTAMP:20260421T171001Z
UID:b767af31e49346a4bf21c5cab5c66fdd@plone6.unife.it:8059
CATEGORIES:orientamento,open days,matematica
CREATED:20200302T081631Z
LAST-MODIFIED:20260421T084433Z
LOCATION:Aula B1 di Palazzo Manfredini\, via Muratori 9\, Ferrara
URL:https://www.unife.it/it/eventi/2026/od-26/od-mate-mag26
END:VEVENT
BEGIN:VTIMEZONE
TZID:Europe/Rome
X-LIC-LOCATION:Europe/Rome
BEGIN:DAYLIGHT
DTSTART:20260329T030000
TZNAME:CEST
TZOFFSETFROM:+0100
TZOFFSETTO:+0200
END:DAYLIGHT
END:VTIMEZONE
END:VCALENDAR
