BEGIN:VCALENDAR
VERSION:2.0
PRODID:-//Plone.org//NONSGML plone.app.event//EN
X-WR-TIMEZONE:Europe/Rome
BEGIN:VEVENT
SUMMARY:Open Day | Corso di Laurea in Design del Prodotto industriale
DTSTART;TZID=Europe/Rome:20260527T085000
DTSTAMP:20260420T175622Z
UID:be45c3f5de9d41c1a3c846a9c95f955e@plone6.unife.it:8059
CATEGORIES:orientamento,open days,design
CREATED:20200302T081631Z
LAST-MODIFIED:20260420T085644Z
LOCATION:Salone d'onore di Palazzo Tassoni (primo piano)\, Dipartimento di
  Architettura\, via Ghiara\, 36\, Ferrara
URL:https://www.unife.it/it/eventi/2026/od-26/od-dpi-mag26
END:VEVENT
BEGIN:VTIMEZONE
TZID:Europe/Rome
X-LIC-LOCATION:Europe/Rome
BEGIN:DAYLIGHT
DTSTART:20260329T030000
TZNAME:CEST
TZOFFSETFROM:+0100
TZOFFSETTO:+0200
END:DAYLIGHT
END:VTIMEZONE
END:VCALENDAR
