BEGIN:VCALENDAR
VERSION:2.0
PRODID:-//Plone.org//NONSGML plone.app.event//EN
X-WR-TIMEZONE:Europe/Rome
BEGIN:VEVENT
SUMMARY:Open Day | Laurea Triennale in Chimica
DTSTART;TZID=Europe/Rome:20260612T100000
DTEND;TZID=Europe/Rome:20260612T120000
DTSTAMP:20260424T005039Z
UID:c362c77638ad4cbcaf5177adc46ab570@plone6.unife.it:8059
CATEGORIES:orientamento,open days,chimica
CREATED:20200302T081631Z
LAST-MODIFIED:20260313T133236Z
LOCATION:Polo chimico bio-medico\, Via Luigi Borsari 46 - Ferrara Corpo C 
 - piano rialzato\, Aula Nobel
URL:https://www.unife.it/it/eventi/2026/od-26/od-chi-giu
END:VEVENT
BEGIN:VTIMEZONE
TZID:Europe/Rome
X-LIC-LOCATION:Europe/Rome
BEGIN:DAYLIGHT
DTSTART:20260329T030000
TZNAME:CEST
TZOFFSETFROM:+0100
TZOFFSETTO:+0200
END:DAYLIGHT
END:VTIMEZONE
END:VCALENDAR
