BEGIN:VCALENDAR
VERSION:2.0
PRODID:-//Plone.org//NONSGML plone.app.event//EN
X-WR-TIMEZONE:Europe/Rome
BEGIN:VEVENT
SUMMARY:Open Day | Corso di Laurea Magistrale in Architettura
DTSTART;TZID=Europe/Rome:20260610T090000
DTSTAMP:20260420T175628Z
UID:db62c821533242fba7dbb7998bd6ddbf@plone6.unife.it:8059
CATEGORIES:orientamento,open days
CREATED:20200302T081631Z
LAST-MODIFIED:20260420T084722Z
LOCATION:Salone d’Onore di Palazzo Tassoni Estense (primo piano)\, Dipar
 timento di Architettura\, Via della Ghiara n. 36\, Ferrara
URL:https://www.unife.it/it/eventi/2026/od-26/od-arch-giu26
END:VEVENT
BEGIN:VTIMEZONE
TZID:Europe/Rome
X-LIC-LOCATION:Europe/Rome
BEGIN:DAYLIGHT
DTSTART:20260329T030000
TZNAME:CEST
TZOFFSETFROM:+0100
TZOFFSETTO:+0200
END:DAYLIGHT
END:VTIMEZONE
END:VCALENDAR
