BEGIN:VCALENDAR
VERSION:2.0
PRODID:-//Plone.org//NONSGML plone.app.event//EN
X-WR-TIMEZONE:Europe/Rome
BEGIN:VEVENT
SUMMARY:Career Day a Unife | Edizione 2026
DTSTART;TZID=Europe/Rome:20260506T093000
DTEND;TZID=Europe/Rome:20260506T150000
DTSTAMP:20260421T152019Z
UID:3ff11bb0949d4477847d89ba3e057c85@plone6.unife.it:8059
CATEGORIES:orientamento,orientamento al lavoro,career day,HP
CREATED:20260304T092822Z
LAST-MODIFIED:20260421T090305Z
LOCATION:Polo Scientifico Tecnologico\, via G. Saragat\, 1 - Ferrara
URL:https://www.unife.it/it/eventi/2026/maggio/career-day-unife-2026
END:VEVENT
BEGIN:VTIMEZONE
TZID:Europe/Rome
X-LIC-LOCATION:Europe/Rome
BEGIN:DAYLIGHT
DTSTART:20260329T030000
TZNAME:CEST
TZOFFSETFROM:+0100
TZOFFSETTO:+0200
END:DAYLIGHT
END:VTIMEZONE
END:VCALENDAR
