BEGIN:VCALENDAR
VERSION:2.0
PRODID:-//Plone.org//NONSGML plone.app.event//EN
X-WR-TIMEZONE:Europe/Rome
BEGIN:VEVENT
SUMMARY:Scienza in pellicola | Terza proiezione "Siccità" - Dipartimento 
 di Scienze dell'Ambiente e della Prevenzione
DTSTART;TZID=Europe/Rome:20260127T180000
DTEND;TZID=Europe/Rome:20260127T210000
DTSTAMP:20260423T155058Z
UID:abca30fda0784ffd91f1a05e946be414@plone6.unife.it:8059
CATEGORIES:cinema,dipartimento di scienze dell'ambiente e della prevenzion
 e,scienza in pellicola
CREATED:20251210T105257Z
LAST-MODIFIED:20260126T075136Z
LOCATION:Notorious Cinemas\, via Darsena\, 73 - Ferrara
URL:https://www.unife.it/it/eventi/2026/gennaio/scienza-pellicola-siccita-
 ambiente-prevenzione
END:VEVENT
BEGIN:VTIMEZONE
TZID:Europe/Rome
X-LIC-LOCATION:Europe/Rome
BEGIN:STANDARD
DTSTART:20251026T020000
TZNAME:CET
TZOFFSETFROM:+0200
TZOFFSETTO:+0100
END:STANDARD
END:VTIMEZONE
END:VCALENDAR
