BEGIN:VCALENDAR
VERSION:2.0
PRODID:-//Plone.org//NONSGML plone.app.event//EN
X-WR-TIMEZONE:Europe/Rome
BEGIN:VEVENT
SUMMARY:"Fascination of Plants Day" | Alla scoperta delle piante spontanee
  dell’Orto Botanico e delle Mura di Ferrara
DTSTART;TZID=Europe/Rome:20260426T100000
DTEND;TZID=Europe/Rome:20260426T163000
DTSTAMP:20260420T165846Z
UID:df4516ef0c39499ab6590c81de060bac@plone6.unife.it:8059
CATEGORIES:orto botanico,Fascination of Plants Day,biodiversità,HP
CREATED:20260420T083335Z
LAST-MODIFIED:20260420T100504Z
LOCATION:Orto Botanico\, Corso Porta Mare 2 - Porta degli Angeli\, alla fi
 ne di Corso Ercole I D’Este
URL:https://www.unife.it/it/eventi/2026/fascination-of-plants-day-biodiver
 sita-vegetale-spontanea-a-ferrara
END:VEVENT
BEGIN:VTIMEZONE
TZID:Europe/Rome
X-LIC-LOCATION:Europe/Rome
BEGIN:DAYLIGHT
DTSTART:20260329T030000
TZNAME:CEST
TZOFFSETFROM:+0100
TZOFFSETTO:+0200
END:DAYLIGHT
END:VTIMEZONE
END:VCALENDAR
