BEGIN:VCALENDAR
VERSION:2.0
PRODID:-//Plone.org//NONSGML plone.app.event//EN
X-WR-TIMEZONE:Europe/Rome
BEGIN:VEVENT
SUMMARY:COLOURS | Language Café "Vacanze e nuovi orizzonti" - Un viaggio 
 tra lingue e culture
DTSTART;TZID=Europe/Rome:20260508T100000
DTEND;TZID=Europe/Rome:20260508T120000
DTSTAMP:20260423T205249Z
UID:e3f5792d18bb4dd995caf3e0ae7a7bb8@plone6.unife.it:8059
CATEGORIES:COLOURS,centro linguistico di ateneo,HP
CREATED:20260421T171605Z
LAST-MODIFIED:20260422T085421Z
LOCATION:Centro Linguistico di Ateneo (CLA)\, Biblioteca e Mediateca\, Via
  Scienze\, 41/b piano terra
URL:https://www.unife.it/it/eventi/2026/eventi-colours/colours-language-ca
 fe-8-maggio
END:VEVENT
BEGIN:VTIMEZONE
TZID:Europe/Rome
X-LIC-LOCATION:Europe/Rome
BEGIN:DAYLIGHT
DTSTART:20260329T030000
TZNAME:CEST
TZOFFSETFROM:+0100
TZOFFSETTO:+0200
END:DAYLIGHT
END:VTIMEZONE
END:VCALENDAR
