BEGIN:VCALENDAR
VERSION:2.0
PRODID:-//Plone.org//NONSGML plone.app.event//EN
X-WR-TIMEZONE:Europe/Rome
BEGIN:VEVENT
SUMMARY:COLOURS CoLab |  Resonant Cities Lab
DTSTART;TZID=Europe/Rome:20260520T090000
DTEND;TZID=Europe/Rome:20260522T160000
DTSTAMP:20260423T092849Z
UID:78c312a1fa52427e87e936181b6f5aaa@plone6.unife.it:8059
CATEGORIES:eventi,COLOURS,HP
CREATED:20260422T074307Z
LAST-MODIFIED:20260422T105716Z
LOCATION:Student Entrepreneurship Centre c/o Laboratorio Aperto (Ex-Teatro
  Verdi) - Secondo piano\, via Castelnuovo 10\, Ferrara
URL:https://www.unife.it/it/eventi/2026/eventi-colours/colours-colab-reson
 ant-cities-lab
END:VEVENT
BEGIN:VTIMEZONE
TZID:Europe/Rome
X-LIC-LOCATION:Europe/Rome
BEGIN:DAYLIGHT
DTSTART:20260329T030000
TZNAME:CEST
TZOFFSETFROM:+0100
TZOFFSETTO:+0200
END:DAYLIGHT
END:VTIMEZONE
END:VCALENDAR
