BEGIN:VCALENDAR
VERSION:2.0
PRODID:-//Plone.org//NONSGML plone.app.event//EN
X-WR-TIMEZONE:Europe/Rome
BEGIN:VEVENT
SUMMARY:COLOURS | Ferrara si fa in 4 (R) - Riduci\, Ripara\, Riutilizza\, 
 Ricicla - Seconda edizione
DTSTART;TZID=Europe/Rome:20260515T160000
DTEND;TZID=Europe/Rome:20260515T190000
DTSTAMP:20260422T141145Z
UID:7cd50c7fce6345c08f9090051df30272@plone6.unife.it:8059
CATEGORIES:colours,HP,plastica,sostenibilità ambientale
CREATED:20260414T155940Z
LAST-MODIFIED:20260421T145817Z
LOCATION:TekneHub - Via Giuseppe Saragat\, 13 - Ferrara\, Italia
URL:https://www.unife.it/it/eventi/2026/eventi-colours/colours-4r-2026
END:VEVENT
BEGIN:VTIMEZONE
TZID:Europe/Rome
X-LIC-LOCATION:Europe/Rome
BEGIN:DAYLIGHT
DTSTART:20260329T030000
TZNAME:CEST
TZOFFSETFROM:+0100
TZOFFSETTO:+0200
END:DAYLIGHT
END:VTIMEZONE
END:VCALENDAR
