BEGIN:VCALENDAR
VERSION:2.0
PRODID:-//Plone.org//NONSGML plone.app.event//EN
X-WR-TIMEZONE:Europe/Rome
BEGIN:VEVENT
SUMMARY:Fisica delle particelle | Workshop internazionale "Deep Inelastic 
 Scattering and Related Subject"
DTSTART;TZID=Europe/Rome:20260504T080000
DTEND;TZID=Europe/Rome:20260508T160000
DTSTAMP:20260420T145151Z
UID:e592430293fc461fa45eae7bd4bd2b6d@plone6.unife.it:8059
CATEGORIES:dipartimento di fisica e scienze della terra,HP,fisica delle pa
 rticelle,fisica
CREATED:20260420T073935Z
LAST-MODIFIED:20260420T091211Z
LOCATION:Royal Hotel Carlton Conference Centre - Via Montebello\, 8 - Bolo
 gna
URL:https://www.unife.it/it/eventi/2026/deep-inelastic-scattering-and-rela
 ted-subject-international-workshop
END:VEVENT
BEGIN:VTIMEZONE
TZID:Europe/Rome
X-LIC-LOCATION:Europe/Rome
BEGIN:DAYLIGHT
DTSTART:20260329T030000
TZNAME:CEST
TZOFFSETFROM:+0100
TZOFFSETTO:+0200
END:DAYLIGHT
END:VTIMEZONE
END:VCALENDAR
