BEGIN:VCALENDAR
VERSION:2.0
PRODID:-//Plone.org//NONSGML plone.app.event//EN
X-WR-TIMEZONE:Europe/Rome
BEGIN:VEVENT
SUMMARY:JobSprint 2026 | Lezione evento di Fabiana Andreani dedicata a CV 
 e LinkedIn
DTSTART;TZID=Europe/Rome:20260429T140000
DTEND;TZID=Europe/Rome:20260429T180000
DTSTAMP:20260420T181459Z
UID:f1ffa37cfa8d4d62b7e0949f7b20d272@plone6.unife.it:8059
CATEGORIES:placement,lavoro,orientamento al lavoro,HP
CREATED:20260420T092441Z
LAST-MODIFIED:20260420T150702Z
LOCATION:Sala 9 del Notorious Cinemas di Ferrara - via Darsena\, 73
URL:https://www.unife.it/it/eventi/2026/aprile/jobsprint-2026-fabiana-andr
 eani
END:VEVENT
BEGIN:VTIMEZONE
TZID:Europe/Rome
X-LIC-LOCATION:Europe/Rome
BEGIN:DAYLIGHT
DTSTART:20260329T030000
TZNAME:CEST
TZOFFSETFROM:+0100
TZOFFSETTO:+0200
END:DAYLIGHT
END:VTIMEZONE
END:VCALENDAR
