BEGIN:VCALENDAR
VERSION:2.0
PRODID:-//Plone.org//NONSGML plone.app.event//EN
X-WR-TIMEZONE:Europe/Rome
BEGIN:VEVENT
SUMMARY:Public Engagement | Quinto appuntamento del ciclo "Aperiscienza al
 la scoperta di Armonia e Ritmo nella Natura"
DTSTART;TZID=Europe/Rome:20250926T163000
DTEND;TZID=Europe/Rome:20250926T220000
DTSTAMP:20260420T163709Z
UID:92ea1e3d92b244c9a945ea96b455093c@plone6.unife.it:8059
CATEGORIES:pe25,aperiscienza
CREATED:20250922T103355Z
LAST-MODIFIED:20250924T135731Z
LOCATION:Palazzo Turchi di Bagno\, via Ercole I d'Este\, 32 - Ferrara
URL:https://www.unife.it/it/eventi/2025/settembre/quinto-appuntamento-aper
 iscienza
END:VEVENT
BEGIN:VTIMEZONE
TZID:Europe/Rome
X-LIC-LOCATION:Europe/Rome
BEGIN:DAYLIGHT
DTSTART:20250330T030000
TZNAME:CEST
TZOFFSETFROM:+0100
TZOFFSETTO:+0200
END:DAYLIGHT
END:VTIMEZONE
END:VCALENDAR
