BEGIN:VCALENDAR
VERSION:2.0
PRODID:-//Plone.org//NONSGML plone.app.event//EN
X-WR-TIMEZONE:Europe/Rome
BEGIN:VEVENT
SUMMARY:Public Engagement | Ferrara AI Fest - Lectio Magistralis "Inherent
 ly Deceptive AI?"
DTSTART;TZID=Europe/Rome:20250925T170000
DTEND;TZID=Europe/Rome:20250925T190000
DTSTAMP:20260424T200904Z
UID:f8ed98708a7446bebce7fe18167671c4@plone6.unife.it:8059
CATEGORIES:AI fest,pe25
CREATED:20250908T103715Z
LAST-MODIFIED:20250908T121458Z
LOCATION:Auditorium Santa Lucia\, via Ariosto 35 - Ferrara
URL:https://www.unife.it/it/eventi/2025/settembre/inherently-deceptive-ai
END:VEVENT
BEGIN:VTIMEZONE
TZID:Europe/Rome
X-LIC-LOCATION:Europe/Rome
BEGIN:DAYLIGHT
DTSTART:20250330T030000
TZNAME:CEST
TZOFFSETFROM:+0100
TZOFFSETTO:+0200
END:DAYLIGHT
END:VTIMEZONE
END:VCALENDAR
