BEGIN:VCALENDAR
VERSION:2.0
PRODID:-//Plone.org//NONSGML plone.app.event//EN
X-WR-TIMEZONE:Europe/Rome
BEGIN:VEVENT
SUMMARY:Public Engagement | Quarto appuntamento del ciclo "Aperiscienza al
 la scoperta di Armonia e Ritmo nella Natura"
DTSTART;TZID=Europe/Rome:20250910T160000
DTEND;TZID=Europe/Rome:20250910T190000
DTSTAMP:20260423T153403Z
UID:5406c9e3ba7b47b2880bae968ad1cf76@plone6.unife.it:8059
CATEGORIES:pe25,aperiscienza,HP
CREATED:20250902T084031Z
LAST-MODIFIED:20250910T133316Z
LOCATION:Orto botanico\, Palazzo Turchi di Bagno\, Corso Ercole I d’Este
 \, 32 - Ferrara
URL:https://www.unife.it/it/eventi/2025/settembre/aperiscienza-equilibri
END:VEVENT
BEGIN:VTIMEZONE
TZID:Europe/Rome
X-LIC-LOCATION:Europe/Rome
BEGIN:DAYLIGHT
DTSTART:20250330T030000
TZNAME:CEST
TZOFFSETFROM:+0100
TZOFFSETTO:+0200
END:DAYLIGHT
END:VTIMEZONE
END:VCALENDAR
