BEGIN:VCALENDAR
VERSION:2.0
PRODID:-//Plone.org//NONSGML plone.app.event//EN
X-WR-TIMEZONE:Europe/Rome
BEGIN:VEVENT
SUMMARY:Public Engagement | Primo appuntamento del ciclo "Ferrara AI Fest"
DTSTART;TZID=Europe/Rome:20251018T093000
DTEND;TZID=Europe/Rome:20251018T130000
DTSTAMP:20260424T072216Z
UID:4d025c7a1c23460da05633046ad1426c@plone6.unife.it:8059
CATEGORIES:AI fest,pe25
CREATED:20250714T080641Z
LAST-MODIFIED:20251016T120522Z
LOCATION:Aula E1\, Polo Biochimico\, Via Borsari 46 - Ferrara
URL:https://www.unife.it/it/eventi/2025/ottobre/ai-fest-the-prompt
END:VEVENT
BEGIN:VTIMEZONE
TZID:Europe/Rome
X-LIC-LOCATION:Europe/Rome
BEGIN:DAYLIGHT
DTSTART:20250330T030000
TZNAME:CEST
TZOFFSETFROM:+0100
TZOFFSETTO:+0200
END:DAYLIGHT
END:VTIMEZONE
END:VCALENDAR
