BEGIN:VCALENDAR
VERSION:2.0
PRODID:-//Plone.org//NONSGML plone.app.event//EN
X-WR-TIMEZONE:Europe/Rome
BEGIN:VEVENT
SUMMARY:Public Engagement | Terzo appuntamento del ciclo "Ferrara AI Fest"
DTSTART;TZID=Europe/Rome:20251127T110000
DTEND;TZID=Europe/Rome:20251127T130000
DTSTAMP:20260424T010803Z
UID:c6dce5e5764349c1a585a6e6bb160aff@plone6.unife.it:8059
CATEGORIES:AI fest,pe25,HP
CREATED:20251113T084410Z
LAST-MODIFIED:20251113T090013Z
LOCATION:Liceo Roiti\, viale Leopardi\, 64 - Ferrara
URL:https://www.unife.it/it/eventi/2025/novembre/ferrara-ai-laboratorio-sc
 uola-roiti
END:VEVENT
BEGIN:VTIMEZONE
TZID:Europe/Rome
X-LIC-LOCATION:Europe/Rome
BEGIN:STANDARD
DTSTART:20251026T020000
TZNAME:CET
TZOFFSETFROM:+0200
TZOFFSETTO:+0100
END:STANDARD
END:VTIMEZONE
END:VCALENDAR
