BEGIN:VCALENDAR
VERSION:2.0
PRODID:-//Plone.org//NONSGML plone.app.event//EN
X-WR-TIMEZONE:Europe/Rome
BEGIN:VEVENT
SUMMARY:Public Engagement | Rassegna di film del ciclo "Ferrara AI Fest"
DTSTART;TZID=Europe/Rome:20251104T210000
DTEND;TZID=Europe/Rome:20251118T233000
DTSTAMP:20260423T192643Z
UID:8896d379a3844f898ebd06c1bc40ac2c@plone6.unife.it:8059
CATEGORIES:AI fest,pe25
CREATED:20250714T102914Z
LAST-MODIFIED:20250724T064754Z
LOCATION:Cinema Santo Spirito\, Via della Resistenza 7\, Ferrara FE
URL:https://www.unife.it/it/eventi/2025/novembre/ai-fest-film
END:VEVENT
BEGIN:VTIMEZONE
TZID:Europe/Rome
X-LIC-LOCATION:Europe/Rome
BEGIN:STANDARD
DTSTART:20251026T020000
TZNAME:CET
TZOFFSETFROM:+0200
TZOFFSETTO:+0100
END:STANDARD
END:VTIMEZONE
END:VCALENDAR
