BEGIN:VCALENDAR
VERSION:2.0
PRODID:-//Plone.org//NONSGML plone.app.event//EN
X-WR-TIMEZONE:Europe/Rome
BEGIN:VEVENT
SUMMARY:Public Engagement | Primo appuntamento del ciclo "Aperiscienza all
 a scoperta di Armonia e Ritmo nella Natura"
DTSTART;TZID=Europe/Rome:20250507T160000
DTEND;TZID=Europe/Rome:20250507T190000
DTSTAMP:20260423T191940Z
UID:9f313ee4af76414f8f32e97f49efae8d@plone6.unife.it:8059
CATEGORIES:pe25,HP,aperiscienza
CREATED:20250408T111333Z
LAST-MODIFIED:20250506T075647Z
LOCATION:Orto Botanico\, ingresso da Corso Ercole I d'Este 32 - Ferrara
URL:https://www.unife.it/it/eventi/2025/maggio/pe25-aperiscienza-simmetrie
END:VEVENT
BEGIN:VTIMEZONE
TZID:Europe/Rome
X-LIC-LOCATION:Europe/Rome
BEGIN:DAYLIGHT
DTSTART:20250330T030000
TZNAME:CEST
TZOFFSETFROM:+0100
TZOFFSETTO:+0200
END:DAYLIGHT
END:VTIMEZONE
END:VCALENDAR
