BEGIN:VCALENDAR
VERSION:2.0
PRODID:-//Plone.org//NONSGML plone.app.event//EN
X-WR-TIMEZONE:Europe/Rome
BEGIN:VEVENT
SUMMARY:Public Engagement | Terzo appuntamento del ciclo "Aperiscienza all
 a scoperta di Armonia e Ritmo nella Natura"
DTSTART;TZID=Europe/Rome:20250604T160000
DTEND;TZID=Europe/Rome:20250604T180000
DTSTAMP:20260424T024453Z
UID:27e15120ccd344ca94e857f6c37a47c1@plone6.unife.it:8059
CATEGORIES:pe25,aperiscienza,HP
CREATED:20250512T132446Z
LAST-MODIFIED:20250527T082857Z
LOCATION:Manifattura dei Marinati\, Corso G. Mazzini\, 200 - Comacchio
URL:https://www.unife.it/it/eventi/2025/giugno/aperiscienza-onde
END:VEVENT
BEGIN:VTIMEZONE
TZID:Europe/Rome
X-LIC-LOCATION:Europe/Rome
BEGIN:DAYLIGHT
DTSTART:20250330T030000
TZNAME:CEST
TZOFFSETFROM:+0100
TZOFFSETTO:+0200
END:DAYLIGHT
END:VTIMEZONE
END:VCALENDAR
