BEGIN:VCALENDAR
VERSION:2.0
PRODID:-//Plone.org//NONSGML plone.app.event//EN
X-WR-TIMEZONE:Europe/Rome
BEGIN:VEVENT
SUMMARY:Public Engagement | Quarto appuntamento del ciclo "Ferrara AI Fest
 "
DTSTART;TZID=Europe/Rome:20251211T093000
DTEND;TZID=Europe/Rome:20251211T120000
DTSTAMP:20260424T025725Z
UID:a018acb75c114216a58ce696c00590b1@plone6.unife.it:8059
CATEGORIES:AI fest,pe25,HP
CREATED:20251024T082537Z
LAST-MODIFIED:20260108T082627Z
LOCATION:Scuola Secondaria di primo grado T. Tasso\, Viale Cavour\, 75 - F
 errara
URL:https://www.unife.it/it/eventi/2025/dicembre/ferrara-ai-laboratorio-sc
 uola-tasso
END:VEVENT
BEGIN:VTIMEZONE
TZID:Europe/Rome
X-LIC-LOCATION:Europe/Rome
BEGIN:STANDARD
DTSTART:20251026T020000
TZNAME:CET
TZOFFSETFROM:+0200
TZOFFSETTO:+0100
END:STANDARD
END:VTIMEZONE
END:VCALENDAR
