BEGIN:VCALENDAR
VERSION:2.0
PRODID:-//Plone.org//NONSGML plone.app.event//EN
X-WR-TIMEZONE:Europe/Rome
BEGIN:VEVENT
SUMMARY:Chirurgia maxillo-facciale | 27° Congresso della Società scienti
 fica europea con tremila specialisti da tutto il mondo
DTSTART;TZID=Europe/Rome:20240916T090000
DTEND;TZID=Europe/Rome:20240920T200000
DTSTAMP:20260423T210338Z
UID:3059fa756fc0484584835337bfede396@plone6.unife.it:8059
CATEGORIES:HP,dipartimento di neuroscienze e riabilitazione
CREATED:20240904T131307Z
LAST-MODIFIED:20240909T055846Z
LOCATION:Centro Congressi La Nuvola - Viale Asia\, 40 /44\, 00144 Roma RM\
 , Italia
URL:https://www.unife.it/it/eventi/2024/settembre/27-congresso-eacmfs
END:VEVENT
BEGIN:VTIMEZONE
TZID:Europe/Rome
X-LIC-LOCATION:Europe/Rome
BEGIN:DAYLIGHT
DTSTART:20240331T030000
TZNAME:CEST
TZOFFSETFROM:+0100
TZOFFSETTO:+0200
END:DAYLIGHT
END:VTIMEZONE
END:VCALENDAR
