BEGIN:VCALENDAR
VERSION:2.0
PRODID:-//Plone.org//NONSGML plone.app.event//EN
X-WR-TIMEZONE:Europe/Rome
BEGIN:VEVENT
SUMMARY:Pietre senza popolo | Secondo incontro sul destino delle città st
 oriche
DTSTART;TZID=Europe/Rome:20240516T183000
DTEND;TZID=Europe/Rome:20240516T203000
DTSTAMP:20260425T044740Z
UID:39454aaee4de42d182eb9516c6fc9b74@plone6.unife.it:8059
CATEGORIES:dipartimento di studi umanistici,HP
CREATED:20240417T092813Z
LAST-MODIFIED:20240506T093353Z
LOCATION:Ex Teatro Verdi - via Castelnuovo\, 10 - Ferrara
URL:https://www.unife.it/it/eventi/2024/maggio/pietre-senza-popolo-16-magg
 io
END:VEVENT
BEGIN:VTIMEZONE
TZID:Europe/Rome
X-LIC-LOCATION:Europe/Rome
BEGIN:DAYLIGHT
DTSTART:20240331T030000
TZNAME:CEST
TZOFFSETFROM:+0100
TZOFFSETTO:+0200
END:DAYLIGHT
END:VTIMEZONE
END:VCALENDAR
