BEGIN:VCALENDAR
VERSION:2.0
PRODID:-//Plone.org//NONSGML plone.app.event//EN
X-WR-TIMEZONE:Europe/Rome
BEGIN:VEVENT
SUMMARY:Public Engagement | Sesto incontro "Percepire\, comprendere e comu
 nicare i luoghi storici della meteorologia ferrarese attraverso la multise
 nsorialità"
DTSTART;TZID=Europe/Rome:20241211T173000
DTEND;TZID=Europe/Rome:20241211T193000
DTSTAMP:20260420T204426Z
UID:9c44ed1a7ea84f1898f8b606c0aa4197@plone6.unife.it:8059
CATEGORIES:HP,meteorologia ferrarese,pe24
CREATED:20240916T081742Z
LAST-MODIFIED:20241014T114056Z
LOCATION:Sala Estense\, Piazza del Municipio 14\, Ferrara
URL:https://www.unife.it/it/eventi/2024/dicembre/sesto-incontro-luoghi-met
 ereologia
END:VEVENT
BEGIN:VTIMEZONE
TZID:Europe/Rome
X-LIC-LOCATION:Europe/Rome
BEGIN:STANDARD
DTSTART:20241027T020000
TZNAME:CET
TZOFFSETFROM:+0200
TZOFFSETTO:+0100
END:STANDARD
END:VTIMEZONE
END:VCALENDAR
