BEGIN:VCALENDAR
VERSION:2.0
PRODID:-//Plone.org//NONSGML plone.app.event//EN
X-WR-TIMEZONE:Europe/Rome
BEGIN:VEVENT
SUMMARY:La valorizzazione del patrimonio archivistico e librario | Giornat
 a di studio organizzata dal Master Archivistica\, Diplomatica e Paleografi
 a
DTSTART;TZID=Europe/Rome:20241205T170000
DTEND;TZID=Europe/Rome:20241205T190000
DTSTAMP:20260419T213109Z
UID:2f7565cf52b44e3ba3d950b5fe38106f@plone6.unife.it:8059
CATEGORIES:dipartimento di studi umanistici,unifemasterchool,biblioteche
CONTACT:Dott.ssa Julie Petit\, 0532455116\, julie.petit@unife.it
CREATED:20241009T075211Z
LAST-MODIFIED:20241120T071405Z
LOCATION:Sala Agnelli della Biblioteca Comunale Ariostea di Ferrara in via
  delle Scienze n. 17
URL:https://www.unife.it/it/eventi/2024/dicembre/giornata-studio-master-ar
 chivistica
END:VEVENT
BEGIN:VTIMEZONE
TZID:Europe/Rome
X-LIC-LOCATION:Europe/Rome
BEGIN:STANDARD
DTSTART:20241027T020000
TZNAME:CET
TZOFFSETFROM:+0200
TZOFFSETTO:+0100
END:STANDARD
END:VTIMEZONE
END:VCALENDAR
