BEGIN:VCALENDAR
VERSION:2.0
PRODID:-//Plone.org//NONSGML plone.app.event//EN
X-WR-TIMEZONE:Europe/Rome
BEGIN:VEVENT
SUMMARY:Tra carte e libri | Giornata di studio organizzata dal Master Arch
 ivistica\, Diplomatica e Paleografia
DTSTART;TZID=Europe/Rome:20231204T160000
DTEND;TZID=Europe/Rome:20231204T190000
DTSTAMP:20260419T213109Z
UID:4744f928b31f4c989e0a66f5ab703543@plone6.unife.it:8059
CATEGORIES:unifemasterchool,dipartimento di studi umanistici,biblioteche,a
 rchivistica,HP
CONTACT:Prof. Sandro Bertelli\, sandro.bertelli@unife.it
CREATED:20231113T084435Z
LAST-MODIFIED:20241115T115304Z
LOCATION:Sala Agnelli della Biblioteca Comunale Ariostea di Ferrara in via
  delle Scienze n. 17
URL:https://www.unife.it/it/eventi/2023/dicembre/seminario-master-archivis
 tica
END:VEVENT
BEGIN:VTIMEZONE
TZID:Europe/Rome
X-LIC-LOCATION:Europe/Rome
BEGIN:STANDARD
DTSTART:20231029T020000
TZNAME:CET
TZOFFSETFROM:+0200
TZOFFSETTO:+0100
END:STANDARD
END:VTIMEZONE
END:VCALENDAR
