BEGIN:VCALENDAR
VERSION:2.0
PRODID:-//Plone.org//NONSGML plone.app.event//EN
X-WR-TIMEZONE:Europe/Rome
BEGIN:VEVENT
SUMMARY:Progetto FERRARA MEMO | Mappatura dell'infiltrazione mafiosa nella
  provincia di Ferrara
DTSTART;TZID=Europe/Rome:20230428T100000
DTEND;TZID=Europe/Rome:20230428T133000
DTSTAMP:20260420T083851Z
UID:321dc8ff52d8408d97066bbe0adbbff0@plone6.unife.it:8059
CATEGORIES:HP,dipartimento di giurisprudenza,macrocrimes
CREATED:20230426T094520Z
LAST-MODIFIED:20230426T101709Z
LOCATION:Sala Consiliare del Dipartimento di Giurisprudenza - corso Ercole
  I d'Este n. 44
URL:https://www.unife.it/it/eventi/2023/aprile/progetto-ferrara-memo-mappa
 tura-dellinfiltrazione-mafiosa
END:VEVENT
BEGIN:VTIMEZONE
TZID:Europe/Rome
X-LIC-LOCATION:Europe/Rome
BEGIN:DAYLIGHT
DTSTART:20230326T030000
TZNAME:CEST
TZOFFSETFROM:+0100
TZOFFSETTO:+0200
END:DAYLIGHT
END:VTIMEZONE
END:VCALENDAR
