BEGIN:VCALENDAR
VERSION:2.0
PRODID:-//Plone.org//NONSGML plone.app.event//EN
X-WR-TIMEZONE:Europe/Rome
BEGIN:VEVENT
SUMMARY:Convegno "Il rinvio pregiudiziale come strumento di sviluppo degli
   ordinamenti"
DTSTART;TZID=Europe/Rome:20221013T143000
DTEND;TZID=Europe/Rome:20221014T173000
DTSTAMP:20260420T134945Z
UID:17db4ca30c6d433598717ab54d7d854f@plone6.unife.it:8059
CATEGORIES:HP,dipartimento di giurisprudenza
CREATED:20220928T081036Z
LAST-MODIFIED:20220928T105020Z
LOCATION:Università degli Studi di Ferrara\, Dipartimento di Giurispruden
 za – Sede di Rovigo Palazzo Angeli\, c.so del Popolo 149\, Rovigo oppure
  a distanza sulla piattaforma Google Meet
URL:https://www.unife.it/it/eventi/2022/ottobre/convegno-rinvio-pregiudizi
 ale
END:VEVENT
BEGIN:VTIMEZONE
TZID:Europe/Rome
X-LIC-LOCATION:Europe/Rome
BEGIN:DAYLIGHT
DTSTART:20220327T030000
TZNAME:CEST
TZOFFSETFROM:+0100
TZOFFSETTO:+0200
END:DAYLIGHT
END:VTIMEZONE
END:VCALENDAR
