BEGIN:VCALENDAR
VERSION:2.0
PRODID:-//Plone.org//NONSGML plone.app.event//EN
X-WR-TIMEZONE:Europe/Rome
BEGIN:VEVENT
SUMMARY:Convegno internazionale | «La gran tela» di Ariosto. Per un nuov
 o commento all’Orlando furioso (1532)
DTSTART;TZID=Europe/Rome:20221006T143000
DTEND;TZID=Europe/Rome:20221007T163000
DTSTAMP:20260420T123806Z
UID:6e4eb49475514fe7baf6df436e5f6e38@plone6.unife.it:8059
CATEGORIES:ariosto,dipartimento di studi umanistici
CREATED:20220930T071054Z
LAST-MODIFIED:20221012T080656Z
LOCATION:Sala dell’Imbarcadero 2 nel Castello Estense
URL:https://www.unife.it/it/eventi/2022/ottobre/convegno-la-gran-tela-ario
 sto
END:VEVENT
BEGIN:VTIMEZONE
TZID:Europe/Rome
X-LIC-LOCATION:Europe/Rome
BEGIN:DAYLIGHT
DTSTART:20220327T030000
TZNAME:CEST
TZOFFSETFROM:+0100
TZOFFSETTO:+0200
END:DAYLIGHT
END:VTIMEZONE
END:VCALENDAR
