BEGIN:VCALENDAR
VERSION:2.0
PRODID:-//Plone.org//NONSGML plone.app.event//EN
X-WR-TIMEZONE:Europe/Rome
BEGIN:VEVENT
SUMMARY:Workshop "Più di 20 anni di ricerca sull'ecoinnovazione: lezioni 
 apprese e nuove direzioni"
DTSTART;TZID=Europe/Rome:20221110T090000
DTEND;TZID=Europe/Rome:20221111T160000
DTSTAMP:20260422T125408Z
UID:3212a9146a444400866382c2a35e6a6c@plone6.unife.it:8059
CATEGORIES:HP
CREATED:20221005T113020Z
LAST-MODIFIED:20221107T075324Z
LOCATION:10 novembre Auditorium del Rettorato\, via Ariosto\, 35 - 11 nove
 mbre Aula Magna IUSS \, corso Porta Mare\, 2
URL:https://www.unife.it/it/eventi/2022/novembre/workshop-ricerca-ecoinnov
 azione
END:VEVENT
BEGIN:VTIMEZONE
TZID:Europe/Rome
X-LIC-LOCATION:Europe/Rome
BEGIN:STANDARD
DTSTART:20221030T020000
TZNAME:CET
TZOFFSETFROM:+0200
TZOFFSETTO:+0100
END:STANDARD
END:VTIMEZONE
END:VCALENDAR
