BEGIN:VCALENDAR
VERSION:2.0
PRODID:-//Plone.org//NONSGML plone.app.event//EN
X-WR-TIMEZONE:Europe/Rome
BEGIN:VEVENT
SUMMARY:Simposio di dottorato “A Resilient and Sustainable World: Contri
 butions to Cleaner Production\, Circular Economy and Eco Innovation”
DTSTART;TZID=Europe/Rome:20221109T090000
DTEND;TZID=Europe/Rome:20221110T160000
DTSTAMP:20260422T125246Z
UID:5c74d835ba4d4d0b8eb70982fc117774@plone6.unife.it:8059
CATEGORIES:HP
CREATED:20221005T104715Z
LAST-MODIFIED:20221123T120643Z
LOCATION:Online
URL:https://www.unife.it/it/eventi/2022/novembre/simposio-di-dottorato
END:VEVENT
BEGIN:VTIMEZONE
TZID:Europe/Rome
X-LIC-LOCATION:Europe/Rome
BEGIN:STANDARD
DTSTART:20221030T020000
TZNAME:CET
TZOFFSETFROM:+0200
TZOFFSETTO:+0100
END:STANDARD
END:VTIMEZONE
END:VCALENDAR
