BEGIN:VCALENDAR
VERSION:2.0
PRODID:-//Plone.org//NONSGML plone.app.event//EN
X-WR-TIMEZONE:Europe/Rome
BEGIN:VEVENT
SUMMARY:Giurisprudenza | Seminario "La protezione dei dati sanitari"
DTSTART;TZID=Europe/Rome:20221104T143000
DTEND;TZID=Europe/Rome:20221104T163000
DTSTAMP:20260422T193125Z
UID:61fb6946971d482cbac6ab99e1e050cc@plone6.unife.it:8059
CATEGORIES:HP,dipartimento di giurisprudenza
CREATED:20221019T083109Z
LAST-MODIFIED:20221019T095440Z
LOCATION:Dipartimento di Giurisprudenza dell'Università di Ferrara  sede 
 di Rovigo - Palazzo Angeli\, Via Domenico Angeli 28\, Rovigo
URL:https://www.unife.it/it/eventi/2022/novembre/seminario-protezione-dati
 -sanitari
END:VEVENT
BEGIN:VTIMEZONE
TZID:Europe/Rome
X-LIC-LOCATION:Europe/Rome
BEGIN:STANDARD
DTSTART:20221030T020000
TZNAME:CET
TZOFFSETFROM:+0200
TZOFFSETTO:+0100
END:STANDARD
END:VTIMEZONE
END:VCALENDAR
