BEGIN:VCALENDAR
VERSION:2.0
PRODID:-//Plone.org//NONSGML plone.app.event//EN
X-WR-TIMEZONE:Europe/Rome
BEGIN:VEVENT
SUMMARY:Laboratorio DiDiArt e Museo Archeologico Nazionale | Nuovo allesti
 mento della Sala del Tesoro
DTSTART;TZID=Europe/Rome:20221103T113000
DTEND;TZID=Europe/Rome:20221103T133000
DTSTAMP:20260422T165540Z
UID:f094de575a634e26baa306e40393d9fe@plone6.unife.it:8059
CATEGORIES:HP,dipartimento di studi umanistici,storia dell'arte
CREATED:20221028T110014Z
LAST-MODIFIED:20221028T114214Z
LOCATION:Museo Archeologico Nazionale di Ferrara Via XX settembre\, 122
URL:https://www.unife.it/it/eventi/2022/novembre/sala-tesoro-museo-archeol
 ogico
END:VEVENT
BEGIN:VTIMEZONE
TZID:Europe/Rome
X-LIC-LOCATION:Europe/Rome
BEGIN:STANDARD
DTSTART:20221030T020000
TZNAME:CET
TZOFFSETFROM:+0200
TZOFFSETTO:+0100
END:STANDARD
END:VTIMEZONE
END:VCALENDAR
