BEGIN:VCALENDAR
VERSION:2.0
PRODID:-//Plone.org//NONSGML plone.app.event//EN
X-WR-TIMEZONE:Europe/Rome
BEGIN:VEVENT
SUMMARY:Festival M'ammalia | Incontro "I grandi mammiferi tra realtà e fa
 lsi miti"
DTSTART;TZID=Europe/Rome:20221112T093000
DTEND;TZID=Europe/Rome:20221112T123000
DTSTAMP:20260422T193117Z
UID:c2f4261675c04948878e4a6137680e3c@plone6.unife.it:8059
CATEGORIES:dipartimento di scienze della vita e biotecnologie,dipartimento
  di scienze dell'ambiente e della prevenzione,delta del po,HP
CREATED:20221028T082617Z
LAST-MODIFIED:20221111T100125Z
LOCATION:Sala “C. Laurenti”\, Castello Estense di Mesola – Piazza Sa
 nto Spirito\, 3\, Mesola
URL:https://www.unife.it/it/eventi/2022/novembre/i-grandi-mammiferi-realta
 -e-falsi-miti
END:VEVENT
BEGIN:VTIMEZONE
TZID:Europe/Rome
X-LIC-LOCATION:Europe/Rome
BEGIN:STANDARD
DTSTART:20221030T020000
TZNAME:CET
TZOFFSETFROM:+0200
TZOFFSETTO:+0100
END:STANDARD
END:VTIMEZONE
END:VCALENDAR
