BEGIN:VCALENDAR
VERSION:2.0
PRODID:-//Plone.org//NONSGML plone.app.event//EN
X-WR-TIMEZONE:Europe/Rome
BEGIN:VEVENT
SUMMARY:Giornata internazionale per l’eliminazione della violenza contro
  le donne
DTSTART;TZID=Europe/Rome:20221125T090000
DTEND;TZID=Europe/Rome:20221125T120000
DTSTAMP:20260424T191542Z
UID:5fc41b3d3cea44e584da190863bd7142@plone6.unife.it:8059
CATEGORIES:HP,dipartimento di giurisprudenza,unife inclusiva
CREATED:20221109T120156Z
LAST-MODIFIED:20221121T110324Z
LOCATION:Aula Magna di Palazzo Angeli\, Rovigo
URL:https://www.unife.it/it/eventi/2022/novembre/giornata-eliminazione-vio
 lenza-contro-donne
END:VEVENT
BEGIN:VTIMEZONE
TZID:Europe/Rome
X-LIC-LOCATION:Europe/Rome
BEGIN:STANDARD
DTSTART:20221030T020000
TZNAME:CET
TZOFFSETFROM:+0200
TZOFFSETTO:+0100
END:STANDARD
END:VTIMEZONE
END:VCALENDAR
