BEGIN:VCALENDAR
VERSION:2.0
PRODID:-//Plone.org//NONSGML plone.app.event//EN
X-WR-TIMEZONE:Europe/Rome
BEGIN:VEVENT
SUMMARY:Ferrara\, un territorio in simbiosi con il suo fiume | Terzo appun
 tamento
DTSTART;TZID=Europe/Rome:20221104T150000
DTEND;TZID=Europe/Rome:20221104T170000
DTSTAMP:20260422T125535Z
UID:4a3a81210a544ee4bd5feae5823f8ff6@plone6.unife.it:8059
CATEGORIES:HP,dipartimento di scienze chimiche\, farmaceutiche ed agrarie,
 public engagement
CREATED:20220914T090510Z
LAST-MODIFIED:20221027T123913Z
LOCATION:Auditorium\, Università di Ferrara\, via Ludovico Ariosto n. 35\
 , Ferrara
URL:https://www.unife.it/it/eventi/2022/novembre/ferrara-territorio-simbio
 si-fiume-4-nov
END:VEVENT
BEGIN:VTIMEZONE
TZID:Europe/Rome
X-LIC-LOCATION:Europe/Rome
BEGIN:STANDARD
DTSTART:20221030T020000
TZNAME:CET
TZOFFSETFROM:+0200
TZOFFSETTO:+0100
END:STANDARD
END:VTIMEZONE
END:VCALENDAR
