BEGIN:VCALENDAR
VERSION:2.0
PRODID:-//Plone.org//NONSGML plone.app.event//EN
X-WR-TIMEZONE:Europe/Rome
BEGIN:VEVENT
SUMMARY:Da soli mai | Seminari "Tecniche di rilassamento"
DTSTART;TZID=Europe/Rome:20221103T160000
DTEND;TZID=Europe/Rome:20221103T180000
DTSTAMP:20260422T212635Z
UID:e67afff492ba4e318bfcc366c242cfac@plone6.unife.it:8059
CATEGORIES:HP,counseling
CREATED:20221004T102800Z
LAST-MODIFIED:20221006T140230Z
LOCATION:Online e in presenza presso l'Auditorium in Via Ariosto 35\, Ferr
 ara
URL:https://www.unife.it/it/eventi/2022/novembre/da-soli-mai-tecniche-di-r
 ilassamento-1
END:VEVENT
BEGIN:VTIMEZONE
TZID:Europe/Rome
X-LIC-LOCATION:Europe/Rome
BEGIN:STANDARD
DTSTART:20221030T020000
TZNAME:CET
TZOFFSETFROM:+0200
TZOFFSETTO:+0100
END:STANDARD
END:VTIMEZONE
END:VCALENDAR
