BEGIN:VCALENDAR
VERSION:2.0
PRODID:-//Plone.org//NONSGML plone.app.event//EN
X-WR-TIMEZONE:Europe/Rome
BEGIN:VEVENT
SUMMARY:Antipasti di Informatica | Dal vocabolario di Greco allo smartphon
 e Android
DTSTART;TZID=Europe/Rome:20221102T133000
DTEND;TZID=Europe/Rome:20221102T143000
DTSTAMP:20260423T034224Z
UID:349ca914e8154edf929224a5e26861c2@plone6.unife.it:8059
CATEGORIES:HP,dipartimento di matematica e informatica
CREATED:20221028T141619Z
LAST-MODIFIED:20221104T093738Z
LOCATION:Aula B1\, Palazzo Manfredini
URL:https://www.unife.it/it/eventi/2022/novembre/antipasti-informatica
END:VEVENT
BEGIN:VTIMEZONE
TZID:Europe/Rome
X-LIC-LOCATION:Europe/Rome
BEGIN:STANDARD
DTSTART:20221030T020000
TZNAME:CET
TZOFFSETFROM:+0200
TZOFFSETTO:+0100
END:STANDARD
END:VTIMEZONE
END:VCALENDAR
