BEGIN:VCALENDAR
VERSION:2.0
PRODID:-//Plone.org//NONSGML plone.app.event//EN
X-WR-TIMEZONE:Europe/Rome
BEGIN:VEVENT
SUMMARY:Giurisprudenza | Seminario "Nuovi orizzonti e vecchi problemi in m
 ateria di diritto minorile"
DTSTART;TZID=Europe/Rome:20220318T143000
DTEND;TZID=Europe/Rome:20220318T180000
DTSTAMP:20260422T163512Z
UID:8748c3908c3e4331b1d255873e9c13c8@plone6.unife.it:8059
CATEGORIES:dipartimento di giurisprudenza,post laurea,diritto,HP
CREATED:20220215T102155Z
LAST-MODIFIED:20220215T102240Z
URL:https://www.unife.it/it/eventi/2022/marzo/nuovi-orizzonti-diritto-mino
 rile
END:VEVENT
BEGIN:VTIMEZONE
TZID:Europe/Rome
X-LIC-LOCATION:Europe/Rome
BEGIN:STANDARD
DTSTART:20211031T020000
TZNAME:CET
TZOFFSETFROM:+0200
TZOFFSETTO:+0100
END:STANDARD
END:VTIMEZONE
END:VCALENDAR
