BEGIN:VCALENDAR
VERSION:2.0
PRODID:-//Plone.org//NONSGML plone.app.event//EN
X-WR-TIMEZONE:Europe/Rome
BEGIN:VEVENT
SUMMARY:Darwin Day Ferrara 2022 | Terza conferenza dedicata a Edward Osbor
 ne Wilson
DTSTART;TZID=Europe/Rome:20220303T170000
DTEND;TZID=Europe/Rome:20220303T183000
DTSTAMP:20260424T132017Z
UID:e90160dd9e4c4ab4be6933c387b4f05b@plone6.unife.it:8059
CATEGORIES:darwin day,dipartimento di scienze della vita e biotecnologie,H
 P
CREATED:20220210T084640Z
LAST-MODIFIED:20220211T073646Z
URL:https://www.unife.it/it/eventi/2022/marzo/darwin-day-ferrara-3-marzo
END:VEVENT
BEGIN:VTIMEZONE
TZID:Europe/Rome
X-LIC-LOCATION:Europe/Rome
BEGIN:STANDARD
DTSTART:20211031T020000
TZNAME:CET
TZOFFSETFROM:+0200
TZOFFSETTO:+0100
END:STANDARD
END:VTIMEZONE
END:VCALENDAR
