BEGIN:VCALENDAR
VERSION:2.0
PRODID:-//Plone.org//NONSGML plone.app.event//EN
X-WR-TIMEZONE:Europe/Rome
BEGIN:VEVENT
SUMMARY:Darwin Day Ferrara 2022 | Quarta conferenza sui microrganismi prot
 agonisti dei processi biologici ed evolutivi
DTSTART;TZID=Europe/Rome:20220310T170000
DTEND;TZID=Europe/Rome:20220310T183000
DTSTAMP:20260424T111101Z
UID:ec9315e7f0dc4aa5b4b9fe1cf5acd5cc@plone6.unife.it:8059
CATEGORIES:darwin day,dipartimento di scienze della vita e biotecnologie,H
 P
CREATED:20220210T085346Z
LAST-MODIFIED:20220211T073731Z
URL:https://www.unife.it/it/eventi/2022/marzo/darwin-day-ferrara-10-marzo
END:VEVENT
BEGIN:VTIMEZONE
TZID:Europe/Rome
X-LIC-LOCATION:Europe/Rome
BEGIN:STANDARD
DTSTART:20211031T020000
TZNAME:CET
TZOFFSETFROM:+0200
TZOFFSETTO:+0100
END:STANDARD
END:VTIMEZONE
END:VCALENDAR
